BEGIN:VCALENDAR
VERSION:2.0
PRODID:-//Fuller Seminary - ECPv6.15.20//NONSGML v1.0//EN
CALSCALE:GREGORIAN
METHOD:PUBLISH
X-WR-CALNAME:Fuller Seminary
X-ORIGINAL-URL:https://fuller.edu
X-WR-CALDESC:Events for Fuller Seminary
REFRESH-INTERVAL;VALUE=DURATION:PT1H
X-Robots-Tag:noindex
X-PUBLISHED-TTL:PT1H
BEGIN:VTIMEZONE
TZID:America/Los_Angeles
BEGIN:DAYLIGHT
TZOFFSETFROM:-0800
TZOFFSETTO:-0700
TZNAME:PDT
DTSTART:20220313T100000
END:DAYLIGHT
BEGIN:STANDARD
TZOFFSETFROM:-0700
TZOFFSETTO:-0800
TZNAME:PST
DTSTART:20221106T090000
END:STANDARD
BEGIN:DAYLIGHT
TZOFFSETFROM:-0800
TZOFFSETTO:-0700
TZNAME:PDT
DTSTART:20230312T100000
END:DAYLIGHT
BEGIN:STANDARD
TZOFFSETFROM:-0700
TZOFFSETTO:-0800
TZNAME:PST
DTSTART:20231105T090000
END:STANDARD
BEGIN:DAYLIGHT
TZOFFSETFROM:-0800
TZOFFSETTO:-0700
TZNAME:PDT
DTSTART:20240310T100000
END:DAYLIGHT
BEGIN:STANDARD
TZOFFSETFROM:-0700
TZOFFSETTO:-0800
TZNAME:PST
DTSTART:20241103T090000
END:STANDARD
END:VTIMEZONE
BEGIN:VEVENT
DTSTART;TZID=America/Los_Angeles:20231116T100000
DTEND;TZID=America/Los_Angeles:20231116T120000
DTSTAMP:20260424T033816
CREATED:20230725T174804Z
LAST-MODIFIED:20231116T072711Z
UID:10000759-1700128800-1700136000@fuller.edu
SUMMARY:Cynthia Eriksson Installation - Dean of the School of Psychology & Marriage and Family Therapy
DESCRIPTION:10:00–11:00 am: Installation11:00 am–12:00 pm: Reception on Travis Breezeway
URL:https://fuller.edu/events/cynthia-eriksson-installation-dean-of-the-school-of-psychology-marriage-and-family-therapy/
LOCATION:CA
CATEGORIES:Student Events
END:VEVENT
BEGIN:VEVENT
DTSTART;TZID=America/Los_Angeles:20231116T100000
DTEND;TZID=America/Los_Angeles:20231116T120000
DTSTAMP:20260424T033816
CREATED:20231025T213923Z
LAST-MODIFIED:20231114T220709Z
UID:10000832-1700128800-1700136000@fuller.edu
SUMMARY:The Installation of Cynthia Eriksson as Dean
DESCRIPTION:The Board of Trustees\, President David Emmanuel Goatley\, and the Faculty of Fuller Theological Seminary invite you to celebrate the installation of Cynthia Blomquist Eriksson\, PhD\, as the Dean of the School of Psychology & Marriage and Family Therapy. \nThursday\nthe Sixteenth Day of November\nTwo Thousand Twenty-Three\nat Ten O’clock in the Morning \nInstallation Address: “For Such a Time as This: Hope and Healing as the Mission of Mental Health” \nThose unable to attend the ceremony in person will be able to watch it live. Live translations in Spanish and Korean will also be available. \nIn-person guests are invited to attend a reception immediately to follow. Register here or call 626-584-5205. \nAlumni and friends of the School of Psychology & Marriage and Family Therapy are invited to an informal conversation and Q&A time with Cynthia Eriksson immediately following the reception\, from 12:00 pm – 1:00 pm in Payton 102. Join the Q&A remotely here. \nInformation for attending delegates and faculty can be found here. \nDirections\nClick “Directions” on the map for driving directions and public transportation directions from your location. \nParking\nLimited complimentary parking is available in the following location: \n185 North Madison Avenue—Exterior Lot: Please do not park in the red\, green (reserved for faculty and staff)\, or visitor spaces. \nLimited street parking is also available at no cost. Please be sure to read all posted signs. If you have any questions\, please contact parking services at 626-584-5444 or parking@fuller.edu. \n  \nAbout the Dean\nCynthia Eriksson has been a core member of Fuller’s psychology faculty since 2003 and was named dean of the School of Psychology & Marriage and Family Therapy as of September 1\, 2023. Dr. Eriksson has provided administrative and academic leadership in her roles as chair of the Doctor of Psychology in Clinical Psychology (PsyD) and as leader of the Headington Program. \nEriksson’s research and teaching expertise focus on trauma\, post-traumatic stress\, spirituality\, culture\, burnout\, resilience\, and diversity. Much of her work explores the needs of cross-cultural aid or mission workers and the interaction of trauma and spirituality. Through Fuller SoPMFT’s Headington Program\, she has developed research and consultation partnerships in Cambodia\, Guatemala\, Japan\, Jordan\, Lebanon\, Liberia\, the Netherlands\, Spain\, Uganda\, and elsewhere. Eriksson is a member of the American Psychological Association\, the International Society of Traumatic Stress Studies\, and the National Council of Schools of Professional Psychology\, and she has presented internationally at psychology and trauma conferences. In addition to authoring several book chapters\, she has been published in The Journal of Traumatic Stress; Traumatology; Mental Health\, Religion & Culture; Journal of Psychology and Theology; PLoS ONE\, and many others. \n  \nAbout the School of Psychology & Marriage and Family Therapy\nBorn out of the Christian community’s need for psychologists who are both committed Christians and competent clinicians and scholars\, Fuller’s School of Psychology & Marriage and Family Therapy (SoPMFT) fulfills the hope for a school where theology and behavioral science are in continuous dialogue\, where the cross of Christ informs all models of healing and transformation\, and whose graduates are agents of transformation serving church and community. For more than half a century\, the SoPMFT and its earlier incarnations have been driven by a commitment to excellence in integration\, research\, and clinical training. With theological and psychological inquiry at the heart of our programs\, we will continue to equip women and men to become marriage and family therapists\, clinical psychologists\, educators\, and researchers who share Christ’s hope and healing in the church and the world. \nSupport SoPMFT\nHelp equip SoPMFT students and faculty to share God’s hope and healing with the world by supporting the School of Psychology & Marriage and Family Therapy. \n 
URL:https://fuller.edu/events/the-installation-of-cynthia-eriksson/
LOCATION:Travis Auditorium\, 180 N. Oakland Avenue\, Pasadena\, CA\, 90010\, United States
CATEGORIES:Featured Events,SOP Events
ATTACH;FMTTYPE=image/jpeg:https://fuller.edu/wp-content/uploads/2023/09/cynthia-erikkson-760X400.jpg
GEO:34.149164;-118.139651
X-APPLE-STRUCTURED-LOCATION;VALUE=URI;X-ADDRESS=Travis Auditorium 180 N. Oakland Avenue Pasadena CA 90010 United States;X-APPLE-RADIUS=500;X-TITLE=180 N. Oakland Avenue:geo:-118.139651,34.149164
END:VEVENT
BEGIN:VEVENT
DTSTART;TZID=America/Los_Angeles:20231116T120000
DTEND;TZID=America/Los_Angeles:20231116T130000
DTSTAMP:20260424T033816
CREATED:20231110T225623Z
LAST-MODIFIED:20231110T225716Z
UID:10000956-1700136000-1700139600@fuller.edu
SUMMARY:Cynthia Eriksson - Q&A Time
DESCRIPTION:Alumni and friends of the School of Psychology & Marriage and Family Therapy are invited to an informal conversation and Q&A time with Cynthia Eriksson immediately following the reception\, from 12:00 pm – 1:00 pm in Payton 102.
URL:https://fuller.edu/events/cynthia-eriksson-qa-time/
LOCATION:Payton 102
CATEGORIES:Featured Events
END:VEVENT
BEGIN:VEVENT
DTSTART;TZID=America/Los_Angeles:20231116T190000
DTEND;TZID=America/Los_Angeles:20231116T203000
DTSTAMP:20260424T033816
CREATED:20231003T192810Z
LAST-MODIFIED:20231116T072711Z
UID:10000878-1700161200-1700166600@fuller.edu
SUMMARY:Craft Group
DESCRIPTION:
URL:https://fuller.edu/events/craft-group-7/
LOCATION:Catalyst Lounge
CATEGORIES:Student Events
END:VEVENT
END:VCALENDAR