BEGIN:VCALENDAR
VERSION:2.0
PRODID:-//Fuller Seminary - ECPv6.15.20//NONSGML v1.0//EN
CALSCALE:GREGORIAN
METHOD:PUBLISH
X-WR-CALNAME:Fuller Seminary
X-ORIGINAL-URL:https://fuller.edu
X-WR-CALDESC:Events for Fuller Seminary
REFRESH-INTERVAL;VALUE=DURATION:PT1H
X-Robots-Tag:noindex
X-PUBLISHED-TTL:PT1H
BEGIN:VTIMEZONE
TZID:America/Los_Angeles
BEGIN:DAYLIGHT
TZOFFSETFROM:-0800
TZOFFSETTO:-0700
TZNAME:PDT
DTSTART:20220313T100000
END:DAYLIGHT
BEGIN:STANDARD
TZOFFSETFROM:-0700
TZOFFSETTO:-0800
TZNAME:PST
DTSTART:20221106T090000
END:STANDARD
BEGIN:DAYLIGHT
TZOFFSETFROM:-0800
TZOFFSETTO:-0700
TZNAME:PDT
DTSTART:20230312T100000
END:DAYLIGHT
BEGIN:STANDARD
TZOFFSETFROM:-0700
TZOFFSETTO:-0800
TZNAME:PST
DTSTART:20231105T090000
END:STANDARD
BEGIN:DAYLIGHT
TZOFFSETFROM:-0800
TZOFFSETTO:-0700
TZNAME:PDT
DTSTART:20240310T100000
END:DAYLIGHT
BEGIN:STANDARD
TZOFFSETFROM:-0700
TZOFFSETTO:-0800
TZNAME:PST
DTSTART:20241103T090000
END:STANDARD
END:VTIMEZONE
BEGIN:VEVENT
DTSTART;TZID=America/Los_Angeles:20231204T090000
DTEND;TZID=America/Los_Angeles:20231208T190000
DTSTAMP:20260422T061341
CREATED:20231202T122711Z
LAST-MODIFIED:20231208T140715Z
UID:10000968-1701680400-1702062000@fuller.edu
SUMMARY:Extended library hours (Pasadena Campus)
DESCRIPTION:The library will be open extended hours for Finals:  \nMonday\, December 4\, 2023 – Friday\, December 8\, 2023: 9 AM – 7 PM. \nDo you need some assistance with your research or have questions? Reach out to us at lib-reference@fuller.edu. Book an online meeting or in-person consultation at the Pasadena campus library. We look forward to supporting you!
URL:https://fuller.edu/events/extended-library-hours-pasadena-campus/
LOCATION:CA
CATEGORIES:Student Events
END:VEVENT
BEGIN:VEVENT
DTSTART;TZID=America/Los_Angeles:20231205T050000
DTEND;TZID=America/Los_Angeles:20231205T060000
DTSTAMP:20260422T061341
CREATED:20230518T213011Z
LAST-MODIFIED:20231205T130711Z
UID:10000604-1701752400-1701756000@fuller.edu
SUMMARY:Fuller's International Prayer Circle (Tuesday Link)
DESCRIPTION:Join Fuller’s International Prayer Circle for a weekly time of connecting with and interceding for each other and the nations.  \nImagine a prayer chain and the links that unite it. You can join any of our two “prayer links” in the “prayer chain” – or both if you would like! We hope to include helpful meeting times for our Fuller community around the world\, including you!  \nOne prayer link meets every Tuesday at 5am Pacific Time/10pm Korea Time \nAnother prayer link meets every Wednesday at 9am Pacific Time/6pm Morocco Time \nThe Zoom info is the same for both prayer links\, so use the following for either meeting: ID: 964 6445 1904 / Passcode: 442552 / fuller-edu.zoom.us/j/96464451904?pwd=ZERHK2NPSisyai92Y3NVUDFKWlNmdz09
URL:https://fuller.edu/events/fullers-international-prayer-circle-tuesday-link-29/
LOCATION:fuller-edu.zoom.us/j/96464451904?pwd=ZERHK2NPSisyai92Y3NVUDFKWlNmdz09
CATEGORIES:Student Events
END:VEVENT
BEGIN:VEVENT
DTSTART;TZID=America/Los_Angeles:20231205T180000
DTEND;TZID=America/Los_Angeles:20231205T210000
DTSTAMP:20260422T061341
CREATED:20230518T213011Z
LAST-MODIFIED:20231205T130712Z
UID:10000605-1701799200-1701810000@fuller.edu
SUMMARY:Fuller Board Gamers
DESCRIPTION:Dave Scott is putting his game collection to use and co-hosting a board game night every first and third Tuesday for any Fuller students\, faculty\, staff and spouses that are interested!Location: Payton Hall\, Room 239For more information\, contact Dave Scott
URL:https://fuller.edu/events/fuller-board-gamers-13/
LOCATION:Payton Hall\, Room 239
CATEGORIES:Student Events
END:VEVENT
END:VCALENDAR