BEGIN:VCALENDAR
VERSION:2.0
PRODID:-//Fuller Seminary - ECPv6.15.20//NONSGML v1.0//EN
CALSCALE:GREGORIAN
METHOD:PUBLISH
X-ORIGINAL-URL:https://fuller.edu
X-WR-CALDESC:Events for Fuller Seminary
REFRESH-INTERVAL;VALUE=DURATION:PT1H
X-Robots-Tag:noindex
X-PUBLISHED-TTL:PT1H
BEGIN:VTIMEZONE
TZID:America/Los_Angeles
BEGIN:DAYLIGHT
TZOFFSETFROM:-0800
TZOFFSETTO:-0700
TZNAME:PDT
DTSTART:20220313T100000
END:DAYLIGHT
BEGIN:STANDARD
TZOFFSETFROM:-0700
TZOFFSETTO:-0800
TZNAME:PST
DTSTART:20221106T090000
END:STANDARD
BEGIN:DAYLIGHT
TZOFFSETFROM:-0800
TZOFFSETTO:-0700
TZNAME:PDT
DTSTART:20230312T100000
END:DAYLIGHT
BEGIN:STANDARD
TZOFFSETFROM:-0700
TZOFFSETTO:-0800
TZNAME:PST
DTSTART:20231105T090000
END:STANDARD
BEGIN:DAYLIGHT
TZOFFSETFROM:-0800
TZOFFSETTO:-0700
TZNAME:PDT
DTSTART:20240310T100000
END:DAYLIGHT
BEGIN:STANDARD
TZOFFSETFROM:-0700
TZOFFSETTO:-0800
TZNAME:PST
DTSTART:20241103T090000
END:STANDARD
BEGIN:DAYLIGHT
TZOFFSETFROM:-0800
TZOFFSETTO:-0700
TZNAME:PDT
DTSTART:20250309T100000
END:DAYLIGHT
BEGIN:STANDARD
TZOFFSETFROM:-0700
TZOFFSETTO:-0800
TZNAME:PST
DTSTART:20251102T090000
END:STANDARD
BEGIN:DAYLIGHT
TZOFFSETFROM:-0800
TZOFFSETTO:-0700
TZNAME:PDT
DTSTART:20260308T100000
END:DAYLIGHT
BEGIN:STANDARD
TZOFFSETFROM:-0700
TZOFFSETTO:-0800
TZNAME:PST
DTSTART:20261101T090000
END:STANDARD
BEGIN:DAYLIGHT
TZOFFSETFROM:-0800
TZOFFSETTO:-0700
TZNAME:PDT
DTSTART:20270314T100000
END:DAYLIGHT
BEGIN:STANDARD
TZOFFSETFROM:-0700
TZOFFSETTO:-0800
TZNAME:PST
DTSTART:20271107T090000
END:STANDARD
END:VTIMEZONE
BEGIN:VEVENT
DTSTART;TZID=America/Los_Angeles:20260422T160000
DTEND;TZID=America/Los_Angeles:20260422T190000
DTSTAMP:20260423T085913
CREATED:20260227T225809Z
LAST-MODIFIED:20260420T045815Z
UID:10001670-1776873600-1776884400@fuller.edu
SUMMARY:All Cultures
DESCRIPTION:Contact: Rachel Kolade
URL:https://fuller.edu/events/all-cultures-2/
LOCATION:Arol Burns Mall
CATEGORIES:Student Events
END:VEVENT
BEGIN:VEVENT
DTSTART;TZID=America/Los_Angeles:20240918T130000
DTEND;TZID=America/Los_Angeles:20240918T150000
DTSTAMP:20260423T085913
CREATED:20240816T052934Z
LAST-MODIFIED:20240903T210800Z
UID:10001411-1726664400-1726671600@fuller.edu
SUMMARY:Resource Fair
DESCRIPTION:
URL:https://fuller.edu/events/resource-fair/
LOCATION:Arol Burns Mall
CATEGORIES:Student Events
END:VEVENT
BEGIN:VEVENT
DTSTART;TZID=America/Los_Angeles:20240917T121500
DTEND;TZID=America/Los_Angeles:20240917T140000
DTSTAMP:20260423T085913
CREATED:20240816T052919Z
LAST-MODIFIED:20240903T210745Z
UID:10001401-1726575300-1726581600@fuller.edu
SUMMARY:SOPFMT: Lunch & Social
DESCRIPTION:
URL:https://fuller.edu/events/sopfmt-lunch-social/
LOCATION:Arol Burns Mall
CATEGORIES:Student Events
END:VEVENT
BEGIN:VEVENT
DTSTART;TZID=America/Los_Angeles:20230922T170000
DTEND;TZID=America/Los_Angeles:20230922T190000
DTSTAMP:20260423T085913
CREATED:20230825T010804Z
LAST-MODIFIED:20230922T080713Z
UID:10000816-1695402000-1695409200@fuller.edu
SUMMARY:Back to School BBQ
DESCRIPTION:
URL:https://fuller.edu/events/back-to-school-bbq/
LOCATION:Arol Burns Mall
CATEGORIES:Student Events
END:VEVENT
BEGIN:VEVENT
DTSTART;TZID=America/Los_Angeles:20230921T130000
DTEND;TZID=America/Los_Angeles:20230921T150000
DTSTAMP:20260423T085913
CREATED:20230825T010751Z
LAST-MODIFIED:20230921T075238Z
UID:10000811-1695301200-1695308400@fuller.edu
SUMMARY:Pasadena Food Tour w/ CAB
DESCRIPTION:
URL:https://fuller.edu/events/pasadena-food-tour-w-cab/
LOCATION:Arol Burns Mall
CATEGORIES:Student Events
END:VEVENT
BEGIN:VEVENT
DTSTART;TZID=America/Los_Angeles:20230920T130000
DTEND;TZID=America/Los_Angeles:20230920T150000
DTSTAMP:20260423T085913
CREATED:20230825T010750Z
LAST-MODIFIED:20230920T074715Z
UID:10000805-1695214800-1695222000@fuller.edu
SUMMARY:Resource Fair including Services | Student Groups | Churches | Community
DESCRIPTION:
URL:https://fuller.edu/events/resource-fair-including-services-student-groups-churches-community/
LOCATION:Arol Burns Mall
CATEGORIES:Student Events
END:VEVENT
BEGIN:VEVENT
DTSTART;TZID=America/Los_Angeles:20230531T100000
DTEND;TZID=America/Los_Angeles:20230531T110000
DTSTAMP:20260423T085913
CREATED:20230518T212812Z
LAST-MODIFIED:20230531T004711Z
UID:10000527-1685527200-1685530800@fuller.edu
SUMMARY:Baccalaureate
DESCRIPTION:All are welcome to the 2023 Baccalaureate Service on Wednesday\, May 31st at 10am (PT) in-person in Travis Auditorium or online on Zoom or YouTube Live. Join us as we celebrate the great accomplishments of the graduating class and bless them as they go from Fuller into the world. The selected speaker is Tina Armstrong and the selected Grand Marshal is Johnny Ramirez-Johnson. All graduates\, students\, staff\, alumni\, and faculty are welcome to this celebration! There will be a small reception to follow. \n*For our graduates and loved ones joining online\, you have the option of streaming on YouTube Live or Zoom. Translation in Korean and Spanish will only be available on Zoom. We invite you to wear your cap and gown and have your screens on! \nGraduates\, please wear your regalia and report to Travis Auditorium by 9:50am to secure your special seating.  \nIf you have any questions about Baccalaureate\, please contact chapel@fuller.edu.
URL:https://fuller.edu/events/baccalaureate/
LOCATION:Arol Burns Mall
CATEGORIES:Student Events
END:VEVENT
BEGIN:VEVENT
DTSTART;TZID=America/Los_Angeles:20230526T170000
DTEND;TZID=America/Los_Angeles:20230526T200000
DTSTAMP:20260423T085913
CREATED:20230518T212811Z
LAST-MODIFIED:20230526T232710Z
UID:10000521-1685120400-1685131200@fuller.edu
SUMMARY:Summer Kickoff BBQ
DESCRIPTION:Join us on Pasadena’s Campus to kickoff the summer quarter with free BBQ dinner\, live music\, a pop-up Makers Market\, and more!
URL:https://fuller.edu/events/summer-kickoff-bbq/
LOCATION:Arol Burns Mall
CATEGORIES:Student Events
END:VEVENT
END:VCALENDAR