BEGIN:VCALENDAR
VERSION:2.0
PRODID:-//Fuller Seminary - ECPv6.15.20//NONSGML v1.0//EN
CALSCALE:GREGORIAN
METHOD:PUBLISH
X-ORIGINAL-URL:https://fuller.edu
X-WR-CALDESC:Events for Fuller Seminary
REFRESH-INTERVAL;VALUE=DURATION:PT1H
X-Robots-Tag:noindex
X-PUBLISHED-TTL:PT1H
BEGIN:VTIMEZONE
TZID:America/Los_Angeles
BEGIN:DAYLIGHT
TZOFFSETFROM:-0800
TZOFFSETTO:-0700
TZNAME:PDT
DTSTART:20220313T100000
END:DAYLIGHT
BEGIN:STANDARD
TZOFFSETFROM:-0700
TZOFFSETTO:-0800
TZNAME:PST
DTSTART:20221106T090000
END:STANDARD
BEGIN:DAYLIGHT
TZOFFSETFROM:-0800
TZOFFSETTO:-0700
TZNAME:PDT
DTSTART:20230312T100000
END:DAYLIGHT
BEGIN:STANDARD
TZOFFSETFROM:-0700
TZOFFSETTO:-0800
TZNAME:PST
DTSTART:20231105T090000
END:STANDARD
BEGIN:DAYLIGHT
TZOFFSETFROM:-0800
TZOFFSETTO:-0700
TZNAME:PDT
DTSTART:20240310T100000
END:DAYLIGHT
BEGIN:STANDARD
TZOFFSETFROM:-0700
TZOFFSETTO:-0800
TZNAME:PST
DTSTART:20241103T090000
END:STANDARD
END:VTIMEZONE
BEGIN:VEVENT
DTSTART;TZID=America/Los_Angeles:20231207T180000
DTEND;TZID=America/Los_Angeles:20231207T200000
DTSTAMP:20260421T115917
CREATED:20231128T024708Z
LAST-MODIFIED:20231208T030707Z
UID:10000961-1701972000-1701979200@fuller.edu
SUMMARY:Fuller Arizona Winter Worship
DESCRIPTION:Christmas is quickly approaching and we want to gather together with you to celebrate!Fuller Arizona\, in partnership with the Office of Student Engagement\, will be holding our Winter Worship night. This will be a time of fellowship and celebration for what God has done this year. Bring your families and enjoy snacks\, hot chocolate\, games and gifts from 6-7 pm and a time of worship from 7-8 pm. THURSDAY\, DECEMBER 76-8 pm Fuller Arizona Campus1110 E Missouri Ave #530Phoenix\, AZ 85014 We will also hold two contests – a winter wardrobe contest and an ugly sweater contest. Feel free to wear either your best winter outfit\, or ugly sweater for a chance to win a prize. We can’t wait to see you there! \nREGISTER HEREWITNESSING THE LORD THROUGH TESTIMONYGuest speakers \nBenjamin Williams Pastor and Entrepreneur \nHear the powerful story of how a young athlete came to encounter the realness of God and His plan\, a  plan that would take him on an adventure he couldn’t possibly have imagined. Tina and Brian HinesFuller Arizona Campus Manager and HusbandExperience a very personal and powerful story of encountering the love and resurrection life of Jesus. This is a story of how dying changed living.
URL:https://fuller.edu/events/fuller-arizona-winter-worship/
LOCATION:Fuller Seminary Arizona\, 1110 E Missouri Ave\, Phoenix\, AZ\, United States
CATEGORIES:Alumni Events
GEO:33.516568;-112.058817
X-APPLE-STRUCTURED-LOCATION;VALUE=URI;X-ADDRESS=Fuller Seminary Arizona 1110 E Missouri Ave Phoenix AZ United States;X-APPLE-RADIUS=500;X-TITLE=1110 E Missouri Ave:geo:-112.058817,33.516568
END:VEVENT
END:VCALENDAR